BEGIN:VCALENDAR
VERSION:2.0
PRODID:-//ChamberMaster//Event Calendar 2.0//EN
METHOD:PUBLISH
X-PUBLISHED-TTL:P3D
REFRESH-INTERVAL:P3D
CALSCALE:GREGORIAN
BEGIN:VEVENT
DTSTART:20100415T050000Z
DTEND:20100415T050000Z
X-MICROSOFT-CDO-ALLDAYEVENT:FALSE
SUMMARY:Spring Shopping Night
DESCRIPTION:Eagle Brook Country Club Presents...\nSpring Shopping Night.\nCome to Eagle Brook to view local vendors\, enjoy complimentary hors d' oeuvres and cash bar.
X-ALT-DESC;FMTTYPE=text/html:Eagle Brook Country Club Presents...\nSpring Shopping Night.\nCome to Eagle Brook to view local vendors\, enjoy complimentary hors d' oeuvres and cash bar.\n
LOCATION:Eagle Brook Country Club
UID:e.1902.1125
SEQUENCE:3
DTSTAMP:20260420T143538Z
URL:https://business.bataviachamber.org/events/details/spring-shopping-night-04-15-2010-1125
END:VEVENT

END:VCALENDAR
