BEGIN:VCALENDAR
VERSION:2.0
PRODID:-//ChamberMaster//Event Calendar 2.0//EN
METHOD:PUBLISH
X-PUBLISHED-TTL:P3D
REFRESH-INTERVAL:P3D
CALSCALE:GREGORIAN
BEGIN:VEVENT
DTSTART:20110519T130000Z
DTEND:20110519T150000Z
X-MICROSOFT-CDO-ALLDAYEVENT:FALSE
SUMMARY:Spring Seminar - Business Leader Panel CANCELLED
DESCRIPTION:The 2010 panel of business owners was a fabulous success…attendees are still talking about it months later. Join us to hear 4 other Chamber business owners as we explore "the life of their business…and the business of their life."Hear from:Tony Beyer\, Tek Pak\, Inc.\nLinda Bi\, Chicago Expert Importers\nPete Molenhouse\, Interiors for Business\, Inc.\nScott Reppert\, Superior Health Linens
X-ALT-DESC;FMTTYPE=text/html:<P align=left><FONT face=Arial size=4>The 2010 panel of business owners was a fabulous success…attendees are still talking about it months later. Join us to hear 4 other Chamber business owners as we explore "the life of their business…and the business of their life."</FONT></P><P align=left><FONT face=Arial size=4>Hear from:</FONT></P><P align=left><FONT face=Arial size=4>Tony Beyer\, Tek Pak\, Inc.<BR>Linda Bi\, Chicago Expert Importers<BR>Pete Molenhouse\, Interiors for Business\, Inc.<BR>Scott Reppert\, Superior Health Linens</FONT></P>
LOCATION:Interiors for Business\, Inc.
UID:e.1902.1842
SEQUENCE:3
DTSTAMP:20260419T180658Z
URL:https://business.bataviachamber.org/events/details/spring-seminar-business-leader-panel-cancelled-05-19-2011-1842
END:VEVENT

END:VCALENDAR
