BEGIN:VCALENDAR
VERSION:2.0
PRODID:-//ChamberMaster//Event Calendar 2.0//EN
METHOD:PUBLISH
X-PUBLISHED-TTL:P3D
REFRESH-INTERVAL:P3D
CALSCALE:GREGORIAN
BEGIN:VEVENT
DTSTART:20090407T050000Z
DTEND:20090407T050000Z
X-MICROSOFT-CDO-ALLDAYEVENT:FALSE
SUMMARY:Spring Has Sprung After Hours Open House
DESCRIPTION:Welcome Spring & Do Some Shopping!\nComplimentary appetizers and door prizes.  Also a great networking opportunity for local business people\, job hunters\, or anyone wishing to make local connections!Pass the word and bring a friend or colleague! Attendees are asked to bring a donation (non-perishable food or personal care items) for the Batavia Interfaith Food Pantry.
X-ALT-DESC;FMTTYPE=text/html:Welcome Spring & Do Some Shopping!\nComplimentary appetizers and door prizes.  Also a great networking opportunity for local business people\, job hunters\, or anyone wishing to make local connections!Pass the word and bring a friend or colleague! Attendees are asked to bring a donation (non-perishable food or personal care items) for the Batavia Interfaith Food Pantry.
LOCATION:Enticing Cuisine
UID:e.1902.901
SEQUENCE:3
DTSTAMP:20260421T125440Z
URL:https://business.bataviachamber.org/events/details/spring-has-sprung-after-hours-open-house-04-07-2009-901
END:VEVENT

END:VCALENDAR
