BEGIN:VCALENDAR
VERSION:2.0
PRODID:-//ChamberMaster//Event Calendar 2.0//EN
METHOD:PUBLISH
X-PUBLISHED-TTL:P3D
REFRESH-INTERVAL:P3D
CALSCALE:GREGORIAN
BEGIN:VEVENT
DTSTART:20200327T230000Z
DTEND:20200328T010000Z
X-MICROSOFT-CDO-ALLDAYEVENT:FALSE
SUMMARY:Spring Fashion Show
DESCRIPTION:Join us for a fun night of Spring Fashion! Summer is right around the corner and Paula has everything you could need! Come check out the spring fashion while enjoying light refreshments and shopping!
X-ALT-DESC;FMTTYPE=text/html:Join us for a fun night of Spring Fashion! Summer is right around the corner and Paula has everything you could need! Come check out the spring fashion while enjoying light refreshments and shopping!
LOCATION:Paula's Couture Consignment 4.5 W Wilson Street Batavia\, IL
UID:e.1902.11416
SEQUENCE:3
DTSTAMP:20260422T215326Z
URL:https://business.bataviachamber.org/events/details/spring-fashion-show-11416
END:VEVENT

END:VCALENDAR
