BEGIN:VCALENDAR
VERSION:2.0
PRODID:-//ChamberMaster//Event Calendar 2.0//EN
METHOD:PUBLISH
X-PUBLISHED-TTL:P3D
REFRESH-INTERVAL:P3D
CALSCALE:GREGORIAN
BEGIN:VEVENT
DTSTART:20100305T060000Z
DTEND:20100305T060000Z
X-MICROSOFT-CDO-ALLDAYEVENT:FALSE
SUMMARY:SPRING BREAK--21st Annual Benefit & Auction
DESCRIPTION:TriCity Family Services is hosting its 21st Annual Benefit and Auction on Friday\, March 5\, 2010 at the Eaglebrook Country Club in Geneva.  The theme for this year’s event is SPRING BREAK and it will feature extensive silent and live auctions\, a split the pot raffle\, delicious dinner\, great music\, great friends and serious relaxing.  \n\nThe Eaglebrook Country Club is located at 2288 Fargo Boulevard in Geneva.  Cocktail hour begins at 6:00 PM\, with dinner at 7:00 PM.  Attire is casual\, but no jeans please per club policy.  \n\nTickets are $75 each.  Tables of 8 persons can be purchased for $600.  All proceeds benefit TriCity Family Services\, our local leader in community-based counseling andsupportive services for those in need.\n\nMake your reservation online at www.tricityfamilyservices.org or call the TriCity Family Services offices at 630-232-1070.  \n\nThe agency is accepting itemsfor the silent and live auctions.  They are also accepting advertisers for the event program book.The donation packet is available on the website.  Contact Miranda Barfuss\, Director of Development\,at 630-232-1070 or mbarfuss@tricityfamilyservices.org for more information.
X-ALT-DESC;FMTTYPE=text/html:TriCity Family Services is hosting its 21st Annual Benefit and Auction on Friday\, March 5\, 2010 at the Eaglebrook Country Club in Geneva.  The theme for this year’s event is SPRING BREAK and it will feature extensive silent and live auctions\, a split the pot raffle\, delicious dinner\, great music\, great friends and serious relaxing.  \n\nThe Eaglebrook Country Club is located at 2288 Fargo Boulevard in Geneva.  Cocktail hour begins at 6:00 PM\, with dinner at 7:00 PM.  Attire is casual\, but no jeans please per club policy.  \n\nTickets are $75 each.  Tables of 8 persons can be purchased for $600.  All proceeds benefit TriCity Family Services\, our local leader in community-based counseling andsupportive services for those in need.\n\nMake your reservation online at www.tricityfamilyservices.org or call the TriCity Family Services offices at 630-232-1070.  \n\nThe agency is accepting itemsfor the silent and live auctions.  They are also accepting advertisers for the event program book.The donation packet is available on the website.  Contact Miranda Barfuss\, Director of Development\,at 630-232-1070 or mbarfuss@tricityfamilyservices.org for more information. \n
LOCATION:Eaglebrook Country Club
UID:e.1902.1113
SEQUENCE:3
DTSTAMP:20260420T162025Z
URL:https://business.bataviachamber.org/events/details/spring-break-21st-annual-benefit-auction-03-05-2010-1113
END:VEVENT

END:VCALENDAR
