BEGIN:VCALENDAR
VERSION:2.0
PRODID:-//ChamberMaster//Event Calendar 2.0//EN
METHOD:PUBLISH
X-PUBLISHED-TTL:P3D
REFRESH-INTERVAL:P3D
CALSCALE:GREGORIAN
BEGIN:VEVENT
DTSTART;VALUE=DATE:20170525
DTEND;VALUE=DATE:20170529
TRANSP:TRANSPARENT
X-MICROSOFT-CDO-ALLDAYEVENT:TRUE
SUMMARY:Spotlight Youth Theater Presents: The Adventures of Tom Sawyer
DESCRIPTION:The Adventures of Tom Sawyer - Spotlight Youth Theater of Aurora\n\n\n\nAudiences of all ages will enjoy this lively tale\, set in 1840 in St. Petersburg\, Missouri. This family show is filled with foot-stomping\, toe-tapping songs that will introduce a whole new generation to Mark Twain's memorable characters   Tom Sawyer\, Huck Finn\, Injun Joe\, Aunt Polly & Becky Thatcher. Whether it's exploring the caverns of Missouri\, whitewashing a fence\, or discovering true love\, the joys and sorrows of growing up are shared with fun and excitement. This is the version that premiered on Broadway in 2001.\n\n\n\nShow Dates and Times Thursday\, May 25th   10:00AM   Weekday Thursday\, May 25th   7:00PM Friday\, May 26th   10:00AM   Weekday Saturday\, May 27th   2:00PM Saturday\, May 27th   6:00PM Sunday\, May 28th   3:00PM\n\n\n\n1201 Main Street\, Batavia\, IL   Enter off of Wilson St.\n\n\n\nPublic Advanced Tickets $14 ~ Adults $12 ~ Children (2-17) / Seniors (62+) / Spotlight Alumni $11 ~ Groups (15 or more) Public Sales at Door +$2 per ticket Weekday School/Assisted Living/Group Advanced Tickets $5 ~ School Groups (75 and up) $6 ~ School Groups (15-74) $9   Individual\n\n\n\nTo purchase tickets\, click here: https://www.spotlight.org/gettickets.aspx#
X-ALT-DESC;FMTTYPE=text/html:<span style="font-family:arial\,sans-serif\;"><span style="font-size:10.0pt\;">The Adventures of Tom Sawyer - Spotlight Youth Theater of Aurora<br />\n<br />\nAudiences of all ages will enjoy this lively tale\, set in 1840 in St. Petersburg\, Missouri. This family show is filled with foot-stomping\, toe-tapping songs that will introduce a whole new generation to Mark Twain&rsquo\;s memorable characters &mdash\; Tom Sawyer\, Huck Finn\, Injun Joe\, Aunt Polly &amp\; Becky Thatcher. Whether it&rsquo\;s exploring the caverns of Missouri\, whitewashing a fence\, or discovering true love\, the joys and sorrows of growing up are shared with fun and excitement. This is the version that premiered on Broadway in 2001.<br />\n<br />\nShow Dates and Times Thursday\, May 25th &ndash\; 10:00AM &ndash\; Weekday Thursday\, May 25th &ndash\; 7:00PM Friday\, May 26th &ndash\; 10:00AM &ndash\; Weekday Saturday\, May 27th &ndash\; 2:00PM Saturday\, May 27th &ndash\; 6:00PM Sunday\, May 28th &ndash\; 3:00PM<br />\n<br />\n1201 Main Street\, Batavia\, IL &ndash\; Enter off of Wilson St.<br />\n<br />\nPublic Advanced Tickets $14 ~ Adults $12 ~ Children (2-17) / Seniors (62+) / Spotlight Alumni $11 ~ Groups (15 or more) Public Sales at Door +$2 per ticket Weekday School/Assisted Living/Group Advanced Tickets $5 ~ School Groups (75 and up) $6 ~ School Groups (15-74) $9 &ndash\; Individual<br />\n<br />\nTo purchase tickets\, click here:&nbsp\;</span></span>https://www.spotlight.org/gettickets.aspx#
LOCATION:1201 Main Street\, Batavia\, IL - Enter off Wilson Street
UID:e.1902.6607
SEQUENCE:3
DTSTAMP:20260425T115324Z
URL:https://business.bataviachamber.org/events/details/spotlight-youth-theater-presents-the-adventures-of-tom-sawyer-6607
END:VEVENT

END:VCALENDAR
