BEGIN:VCALENDAR
VERSION:2.0
PRODID:-//ChamberMaster//Event Calendar 2.0//EN
METHOD:PUBLISH
X-PUBLISHED-TTL:P3D
REFRESH-INTERVAL:P3D
CALSCALE:GREGORIAN
BEGIN:VEVENT
DTSTART:20091016T050000Z
DTEND:20091016T050000Z
X-MICROSOFT-CDO-ALLDAYEVENT:FALSE
SUMMARY:SPOOKtacular Fall Festival
DESCRIPTION:Have a BOOtiful time mingling\, networking\, sampling and shopping -- all while helping the Batavia Interfaith Food Pantry.  Selected vendors will have displays\, and a portion of sales will go to the food pantry.  Admission is free\, but guests are asked to bring a non-perishable food item. We hope there's not a ghost of a chance that you'll miss it!
X-ALT-DESC;FMTTYPE=text/html:Have a BOOtiful time mingling\, networking\, sampling and shopping -- all while helping the Batavia Interfaith Food Pantry.  Selected vendors will have displays\, and a portion of sales will go to the food pantry.  Admission is free\, but guests are asked to bring a non-perishable food item. We hope there's not a ghost of a chance that you'll miss it!
LOCATION:Four Beans Coffee House
UID:e.1902.1040
SEQUENCE:3
DTSTAMP:20260421T025902Z
URL:https://business.bataviachamber.org/events/details/spooktacular-fall-festival-10-16-2009-1040
END:VEVENT

END:VCALENDAR
