BEGIN:VCALENDAR
VERSION:2.0
PRODID:-//ChamberMaster//Event Calendar 2.0//EN
METHOD:PUBLISH
X-PUBLISHED-TTL:P3D
REFRESH-INTERVAL:P3D
CALSCALE:GREGORIAN
BEGIN:VEVENT
DTSTART:20091101T050000Z
DTEND:20091101T050000Z
X-MICROSOFT-CDO-ALLDAYEVENT:FALSE
SUMMARY:Spirit of Life Chorus Concert
DESCRIPTION:110 member choir presents a concert of Christmas music.
X-ALT-DESC;FMTTYPE=text/html:110 member choir presents a concert of Christmas music.
LOCATION:Immanuel Lutheran Church and School
UID:e.1902.1066
SEQUENCE:3
DTSTAMP:20260424T193202Z
URL:https://business.bataviachamber.org/events/details/spirit-of-life-chorus-concert-11-01-2009-1066
END:VEVENT

END:VCALENDAR
