BEGIN:VCALENDAR
VERSION:2.0
PRODID:-//ChamberMaster//Event Calendar 2.0//EN
METHOD:PUBLISH
X-PUBLISHED-TTL:P3D
REFRESH-INTERVAL:P3D
CALSCALE:GREGORIAN
BEGIN:VEVENT
DTSTART:20110629T050000Z
DTEND:20110629T050000Z
X-MICROSOFT-CDO-ALLDAYEVENT:FALSE
SUMMARY:Special Place Seeking Special People
DESCRIPTION:If you are an experienced nurse dedicated to providing the highest level of compassionate care-thenwe have 100 days to find you. \n\nThere really is something special inside Provena Mercy Medical Center - our patients tell us they feel it all the time.  If you are a nurse looking to be a part of something special\, then Provena Mercy is the place for you.  We provide nurses with competitive salaries\, top benefits including educational assistance and a commitment to professional nurse advancementin a caring\, supportive work environment.
X-ALT-DESC;FMTTYPE=text/html:If you are an experienced nurse dedicated to providing the highest level of compassionate care-thenwe have 100 days to find you. \n\nThere really is something special inside Provena Mercy Medical Center - our patients tell us they feel it all the time.  If you are a nurse looking to be a part of something special\, then Provena Mercy is the place for you.  We provide nurses with competitive salaries\, top benefits including educational assistance and a commitment to professional nurse advancementin a caring\, supportive work environment.\n
LOCATION:Provena Mercy Medical Center
UID:e.1902.280
SEQUENCE:3
DTSTAMP:20260419T145356Z
URL:https://business.bataviachamber.org/events/details/special-place-seeking-special-people-06-29-2011-280
END:VEVENT

END:VCALENDAR
