BEGIN:VCALENDAR
VERSION:2.0
PRODID:-//ChamberMaster//Event Calendar 2.0//EN
METHOD:PUBLISH
X-PUBLISHED-TTL:P3D
REFRESH-INTERVAL:P3D
CALSCALE:GREGORIAN
BEGIN:VEVENT
DTSTART:20090323T050000Z
DTEND:20090323T050000Z
X-MICROSOFT-CDO-ALLDAYEVENT:FALSE
SUMMARY:Spaghetti Dinner for Allie's New Wheels
DESCRIPTION:Spaghetti Dinner for Allie's New Wheels\nHosted by:\nScott & Terry Beltran\nOwners of Daddio's Diner\n \n\n  Monday March 23\, 2009\n\n4:00pm - 8:00 pm (or until the spaghetti pot is empty)\n\n$8 adult/$4 kids (cash & checks only)\n\nDaddios Diner  134 W. Wilson   Batavia\n\n(Batavia Plaza- Next to Walgreens)\n\n Diner Ph: 630-879-5299   www.daddiosdiner.biz\n\nDinner includes:\n\nSpaghetti\, Salad\, Bread & Beverage  \n\nDrive thru available through "Allie's Carry Out Ally"\n\n 100% of the proceeds will be donated by Daddio's Diner\n to Spreading Sunshine for Allie (a fundraising effort to buy a new motorized wheelchair for a Batavia 5th grader with cerebral palsey)\n If you are unable to attend an upcoming fundraising event\, but would like to Spread Some Sunshinefor Allie\, please consider a charitable donation.
X-ALT-DESC;FMTTYPE=text/html:Spaghetti Dinner for Allie's New Wheels\nHosted by:\nScott & Terry Beltran\nOwners of Daddio's Diner\n \n\n  Monday March 23\, 2009\n\n4:00pm - 8:00 pm (or until the spaghetti pot is empty)\n\n$8 adult/$4 kids (cash & checks only)\n\nDaddios Diner  134 W. Wilson   Batavia\n\n(Batavia Plaza- Next to Walgreens)\n\n Diner Ph: 630-879-5299   www.daddiosdiner.biz\n\nDinner includes:\n\nSpaghetti\, Salad\, Bread & Beverage  \n\nDrive thru available through "Allie's Carry Out Ally"\n\n 100% of the proceeds will be donated by Daddio's Diner\n to Spreading Sunshine for Allie (a fundraising effort to buy a new motorized wheelchair for a Batavia 5th grader with cerebral palsey)\n If you are unable to attend an upcoming fundraising event\, but would like to Spread Some Sunshinefor Allie\, please consider a charitable donation.\n \n\n
LOCATION:Daddio's Diner
UID:e.1902.889
SEQUENCE:3
DTSTAMP:20260421T143835Z
URL:https://business.bataviachamber.org/events/details/spaghetti-dinner-for-allie-s-new-wheels-03-23-2009-889
END:VEVENT

END:VCALENDAR
