BEGIN:VCALENDAR
VERSION:2.0
PRODID:-//ChamberMaster//Event Calendar 2.0//EN
METHOD:PUBLISH
X-PUBLISHED-TTL:P3D
REFRESH-INTERVAL:P3D
CALSCALE:GREGORIAN
BEGIN:VEVENT
DTSTART:20091023T050000Z
DTEND:20091023T050000Z
X-MICROSOFT-CDO-ALLDAYEVENT:FALSE
SUMMARY:Spaghetti Dinner
DESCRIPTION:Event will benefit residents of the Holmstad Benevolent Care Fund. A fund enables us to bridge the gap when residents' resources are no longer sufficient to cover the cost of their housing and services.
X-ALT-DESC;FMTTYPE=text/html:Event will benefit residents of the Holmstad Benevolent Care Fund. A fund enables us to bridge the gap when residents' resources are no longer sufficient to cover the cost of their housing and services.
LOCATION:The Holmstad
UID:e.1902.1012
SEQUENCE:3
DTSTAMP:20260421T025507Z
URL:https://business.bataviachamber.org/events/details/spaghetti-dinner-10-23-2009-1012
END:VEVENT

END:VCALENDAR
