BEGIN:VCALENDAR
VERSION:2.0
PRODID:-//ChamberMaster//Event Calendar 2.0//EN
METHOD:PUBLISH
X-PUBLISHED-TTL:P3D
REFRESH-INTERVAL:P3D
CALSCALE:GREGORIAN
BEGIN:VEVENT
DTSTART:20101204T060000Z
DTEND:20101204T060000Z
X-MICROSOFT-CDO-ALLDAYEVENT:FALSE
SUMMARY:Snowflake Shuffle 5K Run/Walk
DESCRIPTION:TriCity Family Services\, with Presenting Sponsors\, Harris Bank\, Exelon Nuclear\, and the Mill Creek Clubhouse\, is excited to present the 2nd Annual Snowflake Shuffle 5K Run/Walk on Saturday\, December 4\, 2010 in the Mill Creek Subdivision in Geneva.  Over 300 people participated in the Snowflake Shuffle last year and up to 500 are anticipated this year.  \n\nLace up your sneakers\, put on your Santahat and run like Rudolph\, or walk in a winter wonderland for TriCity Family Services.  Start and endat the Mill Creek Clubhouse and run or walk through the streets of the Mill Creek subdivision.  Bundle up!  All ages\, runners\, walkers\, strollers\, teams\, companies\, schools and families welcome.  Holiday costume and spirit are appreciated.  A “Snowflake Shuffle Spirit Award” will be presented.  Also\, Santa Claus will be in attendance.\n\nThe course is USATF certified.  Split times will be given at every mile.  Finish line management and timing services provided by Race Time.  Awards will be presented to the top 3 males and females in each 5-year age division. \n\nThe Snowflake Shuffle Check In begins at 8:00 AM\, with the race starting at 9:00 AM Check in is located at the Mill Creek Clubhouse\, 39W525 Herrington Drive\, Geneva.  Pre-registration fees are $25 Adults (Age 18+)\, $15 Children &Teens (Ages 6-17)\, and Free for Children (Age 5 and under).  Participants will receive a goody bagand Snowflake Shuffle long-sleeve T-shirt.  Day-of Registration fees are $5 more and shirts are notguaranteed.  All proceeds benefit TriCity Family Services.  \n\nFor more information\, a course map\,or to register online visit www.tricityfamilyservices.org.  To register by phone\, or if you have questions call the TriCity Family Services offices at 630-232-1070.
X-ALT-DESC;FMTTYPE=text/html:TriCity Family Services\, with Presenting Sponsors\, Harris Bank\, Exelon Nuclear\, and the Mill Creek Clubhouse\, is excited to present the 2nd Annual Snowflake Shuffle 5K Run/Walk on Saturday\, December 4\, 2010 in the Mill Creek Subdivision in Geneva.  Over 300 people participated in the Snowflake Shuffle last year and up to 500 are anticipated this year.  \n\nLace up your sneakers\, put on your Santahat and run like Rudolph\, or walk in a winter wonderland for TriCity Family Services.  Start and endat the Mill Creek Clubhouse and run or walk through the streets of the Mill Creek subdivision.  Bundle up!  All ages\, runners\, walkers\, strollers\, teams\, companies\, schools and families welcome.  Holiday costume and spirit are appreciated.  A “Snowflake Shuffle Spirit Award” will be presented.  Also\, Santa Claus will be in attendance.\n\nThe course is USATF certified.  Split times will be given at every mile.  Finish line management and timing services provided by Race Time.  Awards will be presented to the top 3 males and females in each 5-year age division. \n\nThe Snowflake Shuffle Check In begins at 8:00 AM\, with the race starting at 9:00 AM Check in is located at the Mill Creek Clubhouse\, 39W525 Herrington Drive\, Geneva.  Pre-registration fees are $25 Adults (Age 18+)\, $15 Children &Teens (Ages 6-17)\, and Free for Children (Age 5 and under).  Participants will receive a goody bagand Snowflake Shuffle long-sleeve T-shirt.  Day-of Registration fees are $5 more and shirts are notguaranteed.  All proceeds benefit TriCity Family Services.  \n\nFor more information\, a course map\,or to register online visit www.tricityfamilyservices.org.  To register by phone\, or if you have questions call the TriCity Family Services offices at 630-232-1070.\n
LOCATION:Mill Creek Clubhouse
UID:e.1902.28
SEQUENCE:3
DTSTAMP:20260420T004419Z
URL:https://business.bataviachamber.org/events/details/snowflake-shuffle-5k-run-walk-12-04-2010-28
END:VEVENT

END:VCALENDAR
