BEGIN:VCALENDAR
VERSION:2.0
PRODID:-//ChamberMaster//Event Calendar 2.0//EN
METHOD:PUBLISH
X-PUBLISHED-TTL:P3D
REFRESH-INTERVAL:P3D
CALSCALE:GREGORIAN
BEGIN:VEVENT
DTSTART:20091205T060000Z
DTEND:20091205T060000Z
X-MICROSOFT-CDO-ALLDAYEVENT:FALSE
SUMMARY:Snowflake Shuffle
DESCRIPTION:Lace up your sneakers\, put on your Santa hat and run like Rudolph\, or walk in a winter wonderland for TriCity Family Services.  \n\nStart and end at the Mill Creek Clubhouse and run or walk through the streets of the Mill Creek Subdivision.  Bundle up!  All ages\, runners\, walkers\, strollers\, teams\,companies\, schools and families welcome.  Holiday costume and spirit are appreciated!  Santa Claus will be in attendance.\n\nFood\, hot chocolate\, raffle\, jingle bells\, prizes\, elves\, candy canes\, snowflakes and more!  Santa Claus will be in attendance.\n\nAll proceeds benefit TriCity Family Services\n\nSponsorship and Registration Information Available Soon.
X-ALT-DESC;FMTTYPE=text/html:Lace up your sneakers\, put on your Santa hat and run like Rudolph\, or walk in a winter wonderland for TriCity Family Services.  \n\nStart and end at the Mill Creek Clubhouse and run or walk through the streets of the Mill Creek Subdivision.  Bundle up!  All ages\, runners\, walkers\, strollers\, teams\,companies\, schools and families welcome.  Holiday costume and spirit are appreciated!  Santa Claus will be in attendance.\n\nFood\, hot chocolate\, raffle\, jingle bells\, prizes\, elves\, candy canes\, snowflakes and more!  Santa Claus will be in attendance.\n\nAll proceeds benefit TriCity Family Services\n\nSponsorship and Registration Information Available Soon.
LOCATION:Mill Creek Clubhouse and Subdivision
UID:e.1902.1041
SEQUENCE:3
DTSTAMP:20260420T214927Z
URL:https://business.bataviachamber.org/events/details/snowflake-shuffle-12-05-2009-1041
END:VEVENT

END:VCALENDAR
