BEGIN:VCALENDAR
VERSION:2.0
PRODID:-//ChamberMaster//Event Calendar 2.0//EN
METHOD:PUBLISH
X-PUBLISHED-TTL:P3D
REFRESH-INTERVAL:P3D
CALSCALE:GREGORIAN
BEGIN:VEVENT
DTSTART:20090227T060000Z
DTEND:20090227T060000Z
X-MICROSOFT-CDO-ALLDAYEVENT:FALSE
SUMMARY:Sip and Dip
DESCRIPTION:Back by popular demand\, we bring you a night of delicious fondue paired perfectly with outstanding wines. $20/person\, reservations are required.
X-ALT-DESC;FMTTYPE=text/html:Back by popular demand\, we bring you a night of delicious fondue paired perfectly with outstanding wines. $20/person\, reservations are required.
LOCATION:Gibby's Wine Den
UID:e.1902.860
SEQUENCE:3
DTSTAMP:20260421T161854Z
URL:https://business.bataviachamber.org/events/details/sip-and-dip-02-27-2009-860
END:VEVENT

END:VCALENDAR
