BEGIN:VCALENDAR
VERSION:2.0
PRODID:-//ChamberMaster//Event Calendar 2.0//EN
METHOD:PUBLISH
X-PUBLISHED-TTL:P3D
REFRESH-INTERVAL:P3D
CALSCALE:GREGORIAN
BEGIN:VEVENT
DTSTART:20090519T050000Z
DTEND:20090519T050000Z
X-MICROSOFT-CDO-ALLDAYEVENT:FALSE
SUMMARY:Share a Meal
DESCRIPTION:Combine the pleasure of eating with the joy of giving. Just eat at a participating restaurant and aportion of your tab will be donated to support Community Shares of Illinois and its 82 local membercharities. For more info go to www.share-a-meal.org
X-ALT-DESC;FMTTYPE=text/html:Combine the pleasure of eating with the joy of giving. Just eat at a participating restaurant and aportion of your tab will be donated to support Community Shares of Illinois and its 82 local membercharities. For more info go to www.share-a-meal.org
LOCATION:Tribella Bar & Grill
UID:e.1902.932
SEQUENCE:3
DTSTAMP:20260421T103728Z
URL:https://business.bataviachamber.org/events/details/share-a-meal-05-19-2009-932
END:VEVENT

END:VCALENDAR
