BEGIN:VCALENDAR
VERSION:2.0
PRODID:-//ChamberMaster//Event Calendar 2.0//EN
METHOD:PUBLISH
X-PUBLISHED-TTL:P3D
REFRESH-INTERVAL:P3D
CALSCALE:GREGORIAN
BEGIN:VEVENT
DTSTART:20180508T160000Z
DTEND:20180509T030000Z
X-MICROSOFT-CDO-ALLDAYEVENT:FALSE
SUMMARY:Shakou Cares - Anderson Animal Shelter
DESCRIPTION:In honor of National Pet Month\, May's charity for the St. Charles Shakou location is Anderson Animal Shelter. Anderson Animal Shelter will receive 10% of the entire day's sales.
X-ALT-DESC;FMTTYPE=text/html:<strong><span style="font-family:calibri\,sans-serif"><span style="font-size:10.0pt">In honor of National Pet Month\, May&rsquo\;s charity for the St. Charles Shakou location is Anderson Animal Shelter. Anderson Animal Shelter will receive 10% of the entire day&rsquo\;s sales.</span></span></strong><br />\n<br />\n&nbsp\;
LOCATION:Shakou 312 W. Main Street St. Charles\, IL 60174
UID:e.1902.8977
SEQUENCE:3
DTSTAMP:20260424T144703Z
URL:https://business.bataviachamber.org/events/details/shakou-cares-anderson-animal-shelter-8977
END:VEVENT

END:VCALENDAR
