BEGIN:VCALENDAR
VERSION:2.0
PRODID:-//ChamberMaster//Event Calendar 2.0//EN
METHOD:PUBLISH
X-PUBLISHED-TTL:P3D
REFRESH-INTERVAL:P3D
CALSCALE:GREGORIAN
BEGIN:VEVENT
DTSTART:20170304T190000Z
DTEND:20170304T220000Z
X-MICROSOFT-CDO-ALLDAYEVENT:FALSE
SUMMARY:Seussical Jr.
DESCRIPTION:Horton the Elephant\, the Cat in the Hat and all of your favorite Dr. Seuss characters spring to life onstage in Seussical JR.\, a fantastical musical extravaganza from Tony-winners\, Lynn Ahrens and Stephen Flaherty. Presented by Hello Broadway\, the musical features local area students ranging from preschool through grades 11 from Batavia\, Geneva and St. Charles. Seussical Jr. will be performed at the Batavia Fine Arts Centre on Saturday\, March 4th. There are 1pm and 4pm performances. Tickets are $15 for adults and $10 for children. For tickets\, visit www.hello-broadway.com.
X-ALT-DESC;FMTTYPE=text/html:Horton the Elephant\, the Cat in the Hat and all of your favorite Dr. Seuss characters spring to life onstage in Seussical JR.\, a fantastical musical extravaganza from Tony-winners\, Lynn Ahrens and Stephen Flaherty. Presented by Hello Broadway\, the musical features local area students ranging from preschool through grades 11 from Batavia\, Geneva and St. Charles. Seussical Jr. will be performed at the Batavia Fine Arts Centre on Saturday\, March 4th. There are 1pm and 4pm performances. Tickets are $15 for adults and $10 for children. For tickets\, visit www.hello-broadway.com.
LOCATION:Batavia Fine Arts Centre
UID:e.1902.6555
SEQUENCE:3
DTSTAMP:20260425T141604Z
URL:https://business.bataviachamber.org/events/details/seussical-jr-6555
END:VEVENT

END:VCALENDAR
