BEGIN:VCALENDAR
VERSION:2.0
PRODID:-//ChamberMaster//Event Calendar 2.0//EN
METHOD:PUBLISH
X-PUBLISHED-TTL:P3D
REFRESH-INTERVAL:P3D
CALSCALE:GREGORIAN
BEGIN:VEVENT
DTSTART:20170511T183000Z
DTEND:20170511T193000Z
X-MICROSOFT-CDO-ALLDAYEVENT:FALSE
SUMMARY:Seniors invited to fitness class at The Holmstad
DESCRIPTION:Area seniors are invited to attend a fitness class at The Holmstad retirement community with Fitness Coordinator Ellyn Roth on Thursday\, May 11 at 1:30 p.m. The "Get Moving" fitness class is a gentle approach that combines yoga\, aerobics\, and core strengthening all in one. Fruit-infused water and healthy snacks will be available after the class\, along with optional group tours of the community. Space is limited and registration is required for this free class by calling 877-226-7310 or visiting www.TheHolmstad.org/events. The Holmstad is located at 700 W. Fabyan Parkway\, Batavia.
X-ALT-DESC;FMTTYPE=text/html:Area seniors are invited to attend a fitness class at The Holmstad retirement community with Fitness Coordinator Ellyn Roth on Thursday\, May 11 at 1:30 p.m. The &ldquo\;Get Moving&rdquo\; fitness class is a gentle approach that combines yoga\, aerobics\, and core strengthening all in one. Fruit-infused water and healthy snacks will be available after the class\, along with optional group tours of the community. Space is limited and registration is required for this free class by calling 877-226-7310 or visiting www.TheHolmstad.org/events. The Holmstad is located at 700 W. Fabyan Parkway\, Batavia.
LOCATION:The Holmstad 700 W. Fabyan Parkway Batavia\, IL 60510
UID:e.1902.6618
SEQUENCE:3
DTSTAMP:20260425T114611Z
URL:https://business.bataviachamber.org/events/details/seniors-invited-to-fitness-class-at-the-holmstad-6618
END:VEVENT

END:VCALENDAR
