BEGIN:VCALENDAR
VERSION:2.0
PRODID:-//ChamberMaster//Event Calendar 2.0//EN
METHOD:PUBLISH
X-PUBLISHED-TTL:P3D
REFRESH-INTERVAL:P3D
CALSCALE:GREGORIAN
BEGIN:VEVENT
DTSTART:20170531T150000Z
DTEND:20170531T190000Z
X-MICROSOFT-CDO-ALLDAYEVENT:FALSE
SUMMARY:Senior Health & Fitness Fair on May 31
DESCRIPTION:In celebration of National Senior Health & Fitness Day\, the public is invited to attend The Holmstad's Senior Health and Fitness Fair on Wednesday\, May 31\, 10 a.m. to 2 p.m. The event is free and open to the public. The Holmstad is located at 700 W. Fabyan Parkway\, Batavia. This year's National Senior Health & Fitness Day theme is "With Movement\, There Is Improvement." During the fair\, guests will discover fun ways to maximize fitness and wellness by staying on the move. At 1 p.m.\, keynote speaker Anne Lindstrom\, Stroke Program manager for the Comprehensive Stroke Program at Central DuPage Hospital and the Primary Stroke Program at Delnor Hospital\, will discuss the signs and symptoms of a stroke\; prevention\; and innovations in stroke care\, including treatment. The day's activities include: From 10 a.m.-2 p.m.   Farmers' Market with fresh produce for sale   Free hand and chair massages   Free health screenings   Raffles and giveaways From 10:30 a.m.-12:30 p.m.   Cooking demonstrations featuring healthy recipes and tasty samples At 1 p.m. Keynote speaker Anne Lindstrom There is no charge for admittance. Guests are encouraged to help The Holmstad support Wayside Cross Ministries by donating a disposable razor and/or deodorant. For information about the event\, visit www.theholmstad.org/events or call 877-226-7310.
X-ALT-DESC;FMTTYPE=text/html:In celebration of National Senior Health &amp\; Fitness Day\, the public is invited to attend The Holmstad&rsquo\;s Senior Health and Fitness Fair on Wednesday\, May 31\, 10 a.m. to 2 p.m. The event is free and open to the public. The Holmstad is located at 700 W. Fabyan Parkway\, Batavia. This year&rsquo\;s National Senior Health &amp\; Fitness Day theme is &ldquo\;With Movement\, There Is Improvement.&rdquo\; During the fair\, guests will discover fun ways to maximize fitness and wellness by staying on the move. At 1 p.m.\, keynote speaker Anne Lindstrom\, Stroke Program manager for the Comprehensive Stroke Program at Central DuPage Hospital and the Primary Stroke Program at Delnor Hospital\, will discuss the signs and symptoms of a stroke\; prevention\; and innovations in stroke care\, including treatment. The day&rsquo\;s activities include: From 10 a.m.-2 p.m. &bull\; Farmers&#39\; Market with fresh produce for sale &bull\; Free hand and chair massages &bull\; Free health screenings &bull\; Raffles and giveaways From 10:30 a.m.-12:30 p.m. &bull\; Cooking demonstrations featuring healthy recipes and tasty samples At 1 p.m. Keynote speaker Anne Lindstrom There is no charge for admittance. Guests are encouraged to help The Holmstad support Wayside Cross Ministries by donating a disposable razor and/or deodorant. For information about the event\, visit&nbsp\;www.theholmstad.org/events&nbsp\;or call 877-226-7310.
LOCATION:The Holmstad 700 W. Fabyan Parkway\, Batavia\, IL 60510
UID:e.1902.6648
SEQUENCE:3
DTSTAMP:20260425T114802Z
URL:https://business.bataviachamber.org/events/details/senior-health-fitness-fair-on-may-31-6648
END:VEVENT

END:VCALENDAR
