BEGIN:VCALENDAR
VERSION:2.0
PRODID:-//ChamberMaster//Event Calendar 2.0//EN
METHOD:PUBLISH
X-PUBLISHED-TTL:P3D
REFRESH-INTERVAL:P3D
CALSCALE:GREGORIAN
BEGIN:VEVENT
DTSTART:20090409T050000Z
DTEND:20090409T050000Z
X-MICROSOFT-CDO-ALLDAYEVENT:FALSE
SUMMARY:Senior Fair
DESCRIPTION:Senior Fair that will offer information about state and local services to residents
X-ALT-DESC;FMTTYPE=text/html:Senior Fair that will offer information about state and local services to residents
LOCATION:American Legion Hall
UID:e.1902.892
SEQUENCE:3
DTSTAMP:20260421T125258Z
URL:https://business.bataviachamber.org/events/details/senior-fair-04-09-2009-892
END:VEVENT

END:VCALENDAR
