BEGIN:VCALENDAR
VERSION:2.0
PRODID:-//ChamberMaster//Event Calendar 2.0//EN
METHOD:PUBLISH
X-PUBLISHED-TTL:P3D
REFRESH-INTERVAL:P3D
CALSCALE:GREGORIAN
BEGIN:VEVENT
DTSTART:20100802T050000Z
DTEND:20100802T050000Z
X-MICROSOFT-CDO-ALLDAYEVENT:FALSE
SUMMARY:Second Half Outlook 2010
DESCRIPTION:Masus Financial Group will be hosting a Client/Guest event at the Batavia Public Library on August 2nd @6:30pm entitled: Second Half Outlook 2010\, dealing with the Stock Market as well as the currenteconomic climate and outlook for the balance of the year and into 2011. Finger food and refreshmentswill be served. Public welcome.
X-ALT-DESC;FMTTYPE=text/html:Masus Financial Group will be hosting a Client/Guest event at the Batavia Public Library on August 2nd @6:30pm entitled: Second Half Outlook 2010\, dealing with the Stock Market as well as the currenteconomic climate and outlook for the balance of the year and into 2011. Finger food and refreshmentswill be served. Public welcome.
LOCATION:Batavia Public Library
UID:e.1902.14
SEQUENCE:3
DTSTAMP:20260420T073840Z
URL:https://business.bataviachamber.org/events/details/second-half-outlook-2010-08-02-2010-14
END:VEVENT

END:VCALENDAR
