BEGIN:VCALENDAR
VERSION:2.0
PRODID:-//ChamberMaster//Event Calendar 2.0//EN
METHOD:PUBLISH
X-PUBLISHED-TTL:P3D
REFRESH-INTERVAL:P3D
CALSCALE:GREGORIAN
BEGIN:VEVENT
DTSTART:20170216T150000Z
DTEND:20170226T030000Z
X-MICROSOFT-CDO-ALLDAYEVENT:FALSE
SUMMARY:Sears Batavia Feb. 16 thru Feb. 25 Presidents’ Day Savings Event
DESCRIPTION:Sears Feb. 16 thru Feb. 25 \n\nPresidents' Day Savings Event\n\n   \n\n Up to 40% off Appliances\n\n Plus extra 5% off\, or 12 Months Special Financing on Appliances\, or Free Delivery over with Sears Card on qualifying purchases\n\nPlus other Vendor Rebates from KitchenAid\, Bosch\, & LG\n\n \n\nUp to 20% off Power Lawn & Garden Equipment\, Floor Care\, Patio & Grills \n\n \n\nUp to 50% off Craftsman Storage & Mechanic's Tool Sets
X-ALT-DESC;FMTTYPE=text/html:<div style="text-align: center\;"><span style="color:red"><span style="font-size:24.0pt">Sears Feb. 16 thru Feb. 25 </span></span><br />\n<span style="color:red"><span style="font-size:18.0pt">Presidents&rsquo\; Day Savings Event</span></span><br />\n&nbsp\;&nbsp\;&nbsp\;<br />\n&nbsp\;<span style="color:#0070C0"><span style="font-size:15.0pt">Up to 40% off Appliances</span></span><br />\n&nbsp\;<span style="color:#0070C0"><span style="font-size:15.0pt">Plus extra 5% off\,&nbsp\;or 12 Months Special Financing on Appliances\, or Free Delivery over with Sears Card on qualifying purchases</span></span><br />\n<span style="color:#4472C4"><span style="font-size:15.0pt">Plus other Vendor Rebates from KitchenAid\, Bosch\, &amp\; LG</span></span><br />\n&nbsp\;<br />\n<span style="color:#70AD47"><span style="font-size:15.0pt">Up to 20% off Power Lawn &amp\; Garden Equipment\, Floor Care\, Patio &amp\; Grills </span></span><br />\n&nbsp\;<br />\n<span style="color:#ED7D31"><span style="font-family:times new roman\,serif"><span style="font-size:15.0pt">Up to 50% off Craftsman Storage &amp\; Mechanic&rsquo\;s Tool Sets</span></span></span></div>\n
LOCATION:Sears Appliance & Hardware 3N Randall Rd Batavia\, IL 60510 630-406-7852
UID:e.1902.6560
SEQUENCE:3
DTSTAMP:20260425T163946Z
URL:https://business.bataviachamber.org/events/details/sears-batavia-feb-16-thru-feb-25-presidents-day-savings-event-6560
END:VEVENT

END:VCALENDAR
