BEGIN:VCALENDAR
VERSION:2.0
PRODID:-//ChamberMaster//Event Calendar 2.0//EN
METHOD:PUBLISH
X-PUBLISHED-TTL:P3D
REFRESH-INTERVAL:P3D
CALSCALE:GREGORIAN
BEGIN:VEVENT
DTSTART:20101117T060000Z
DTEND:20101117T060000Z
X-MICROSOFT-CDO-ALLDAYEVENT:FALSE
SUMMARY:School of Business Workshop
DESCRIPTION:Jacqueline Camacho-Ruiz is owner and director of JJR Marketing Consultants LLC. An entrepreneur fromAurora\, she has proven abilities in marketing\, sales and business communications. Jackie has been featured on WGN TV and contributed articles to the The Daily Herald and The Business Ledger\, as wellas other local and\nnational publications. She is a regular guest host on “Livin The Dream Radio Show” and an editorial columnist for Ultimas Noticias. She is the author of “The Little Book of Business Secrets That Work!: 200 How-To’s Every Business Professional Needs to Know.”
X-ALT-DESC;FMTTYPE=text/html:Jacqueline Camacho-Ruiz is owner and director of JJR Marketing Consultants LLC. An entrepreneur fromAurora\, she has proven abilities in marketing\, sales and business communications. Jackie has been featured on WGN TV and contributed articles to the The Daily Herald and The Business Ledger\, as wellas other local and\nnational publications. She is a regular guest host on “Livin The Dream Radio Show” and an editorial columnist for Ultimas Noticias. She is the author of “The Little Book of Business Secrets That Work!: 200 How-To’s Every Business Professional Needs to Know.”
LOCATION:Rasmussen College
UID:e.1902.82
SEQUENCE:3
DTSTAMP:20260420T023732Z
URL:https://business.bataviachamber.org/events/details/school-of-business-workshop-11-17-2010-82
END:VEVENT

END:VCALENDAR
