BEGIN:VCALENDAR
VERSION:2.0
PRODID:-//ChamberMaster//Event Calendar 2.0//EN
METHOD:PUBLISH
X-PUBLISHED-TTL:P3D
REFRESH-INTERVAL:P3D
CALSCALE:GREGORIAN
BEGIN:VEVENT
DTSTART:20090523T050000Z
DTEND:20090523T050000Z
X-MICROSOFT-CDO-ALLDAYEVENT:FALSE
SUMMARY:School of Art Open House and Semi Annual Art Supply Drive
DESCRIPTION:We will be hosting a School of Art Open House and Art Supply Drive on May 23\, 2009 from 1-4pm at ourtemporary gallery space at 160 W. Wilson (next to Panera) featuring our summer session teachers andsamplings of class artwork. Gallery and education staff will be available to answer any questions with regards to summer programming\, to be offered June through August. This will be a great opportunity to check out our new facility and all that is offered at Water Street Studios.\nAll types of artsupplies are needed for the community art center’s semi-annual Art Supply Drive. A wish list will beposted on www.waterstreetstudios.com.
X-ALT-DESC;FMTTYPE=text/html:We will be hosting a School of Art Open House and Art Supply Drive on May 23\, 2009 from 1-4pm at ourtemporary gallery space at 160 W. Wilson (next to Panera) featuring our summer session teachers andsamplings of class artwork. Gallery and education staff will be available to answer any questions with regards to summer programming\, to be offered June through August. This will be a great opportunity to check out our new facility and all that is offered at Water Street Studios.\nAll types of artsupplies are needed for the community art center’s semi-annual Art Supply Drive. A wish list will beposted on www.waterstreetstudios.com.
LOCATION:Water Street Studios
UID:e.1902.951
SEQUENCE:3
DTSTAMP:20260421T104357Z
URL:https://business.bataviachamber.org/events/details/school-of-art-open-house-and-semi-annual-art-supply-drive-05-23-2009-951
END:VEVENT

END:VCALENDAR
