BEGIN:VCALENDAR
VERSION:2.0
PRODID:-//ChamberMaster//Event Calendar 2.0//EN
METHOD:PUBLISH
X-PUBLISHED-TTL:P3D
REFRESH-INTERVAL:P3D
CALSCALE:GREGORIAN
BEGIN:VEVENT
DTSTART:20101116T060000Z
DTEND:20101116T060000Z
X-MICROSOFT-CDO-ALLDAYEVENT:FALSE
SUMMARY:(SBDC) The Future of Entrepreneurship
DESCRIPTION:Thirty years ago\, entrepreneurs sold to their neighbors. Twenty years ago\, they put up web storefronts and tested the waters of e-commerce. Ten years ago\, major holiday profits were generated on CyberMonday. Today\, entrepreneurs use crowd-sourcing\, social media\, and mobile apps to reach buyers anywhere in the world. Join in the conversation as we discuss the future of entrepreneurship. This eventwill feature nationally recognized author on entrepreneurship\, Barry Moltz.\n\nTo reserve your seatat this event\, please visit www.waubonseetickets.com to purchase them. \n\nContact us at (630)906-4209 or email: jblank@waubonsee.edu if further direction is needed.
X-ALT-DESC;FMTTYPE=text/html:Thirty years ago\, entrepreneurs sold to their neighbors. Twenty years ago\, they put up web storefronts and tested the waters of e-commerce. Ten years ago\, major holiday profits were generated on CyberMonday. Today\, entrepreneurs use crowd-sourcing\, social media\, and mobile apps to reach buyers anywhere in the world. Join in the conversation as we discuss the future of entrepreneurship. This eventwill feature nationally recognized author on entrepreneurship\, Barry Moltz.\n\nTo reserve your seatat this event\, please visit www.waubonseetickets.com to purchase them. \n\nContact us at (630)906-4209 or email: jblank@waubonsee.edu if further direction is needed.
LOCATION:Waubonsee Community College - Aurora Campus
UID:e.1902.72
SEQUENCE:3
DTSTAMP:20260420T024101Z
URL:https://business.bataviachamber.org/events/details/sbdc-the-future-of-entrepreneurship-11-16-2010-72
END:VEVENT

END:VCALENDAR
