BEGIN:VCALENDAR
VERSION:2.0
PRODID:-//ChamberMaster//Event Calendar 2.0//EN
METHOD:PUBLISH
X-PUBLISHED-TTL:P3D
REFRESH-INTERVAL:P3D
CALSCALE:GREGORIAN
BEGIN:VEVENT
DTSTART:20110118T060000Z
DTEND:20110118T060000Z
X-MICROSOFT-CDO-ALLDAYEVENT:FALSE
SUMMARY:(SBDC) Starting Your Small Business in Illinois Workshop
DESCRIPTION:Are you an aspiring entrepreneur? Learn the basics elements of starting a successful business. Thisworkshop gives the entrepreneur a realistic view of the requirements to start a business and the resources available to support a new venture. Topics include: business plan preparation\, legal structures\, government regulations\, financing sources\, loan programs and lender eligibility criteria. Join Us!\n\nPlease contact us at 630-906-4143 or hparker@waubonsee.edu to register. You can also visit Waubonsee's website for registration information. (Registration is required.)
X-ALT-DESC;FMTTYPE=text/html:Are you an aspiring entrepreneur? Learn the basics elements of starting a successful business. Thisworkshop gives the entrepreneur a realistic view of the requirements to start a business and the resources available to support a new venture. Topics include: business plan preparation\, legal structures\, government regulations\, financing sources\, loan programs and lender eligibility criteria. Join Us!\n\nPlease contact us at 630-906-4143 or hparker@waubonsee.edu to register. You can also visit Waubonsee's website for registration information. (Registration is required.)
LOCATION:Waubonsee Community College - Aurora Campus
UID:e.1902.90
SEQUENCE:3
DTSTAMP:20260419T230326Z
URL:https://business.bataviachamber.org/events/details/sbdc-starting-your-small-business-in-illinois-workshop-01-18-2011-90
END:VEVENT

END:VCALENDAR
