BEGIN:VCALENDAR
VERSION:2.0
PRODID:-//ChamberMaster//Event Calendar 2.0//EN
METHOD:PUBLISH
X-PUBLISHED-TTL:P3D
REFRESH-INTERVAL:P3D
CALSCALE:GREGORIAN
BEGIN:VEVENT
DTSTART:20101013T050000Z
DTEND:20101013T050000Z
X-MICROSOFT-CDO-ALLDAYEVENT:FALSE
SUMMARY:(SBDC) Starting Your Small Business in Illinois
DESCRIPTION:Are you an aspiring entrepreneur? Learn the basic elements of starting a successful business. This workshop gives the entrepreneur a realistic view of the requirements to start a business and the resources available to support a new venture. Topics include: business plan preparation\, legal structures\, government regulations\, financing sources\, loan programs and lender eligibility criteria. Join us!\n\nIf interested\, please contact us at 630-906-4143 or hparker@waubonsee.edu to register. you canalso visit Waubonsee's website for registration information.
X-ALT-DESC;FMTTYPE=text/html:Are you an aspiring entrepreneur? Learn the basic elements of starting a successful business. This workshop gives the entrepreneur a realistic view of the requirements to start a business and the resources available to support a new venture. Topics include: business plan preparation\, legal structures\, government regulations\, financing sources\, loan programs and lender eligibility criteria. Join us!\n\nIf interested\, please contact us at 630-906-4143 or hparker@waubonsee.edu to register. you canalso visit Waubonsee's website for registration information.
LOCATION:Waubonsee Community College - Aurora Campus
UID:e.1902.57
SEQUENCE:3
DTSTAMP:20260420T042719Z
URL:https://business.bataviachamber.org/events/details/sbdc-starting-your-small-business-in-illinois-10-13-2010-57
END:VEVENT

END:VCALENDAR
