BEGIN:VCALENDAR
VERSION:2.0
PRODID:-//ChamberMaster//Event Calendar 2.0//EN
METHOD:PUBLISH
X-PUBLISHED-TTL:P3D
REFRESH-INTERVAL:P3D
CALSCALE:GREGORIAN
BEGIN:VEVENT
DTSTART:20110510T050000Z
DTEND:20110510T050000Z
X-MICROSOFT-CDO-ALLDAYEVENT:FALSE
SUMMARY:(SBDC) Starting Your Business in Illinois Workshop
DESCRIPTION:Are you an aspiring entrepreneur? Learn the basics elements of starting a successful business. Thisworkshop gives the entrepreneur a realistic view of the requirements to start a business and the resources available to support a new venture. Topics include: business plan preparation\, legal structures\, government regulations\, financing sources\, loan programs and lender eligibility criteria. Join Us! Please contact us at 630-906-4143 or sbdc@waubonsee.edu to register.
X-ALT-DESC;FMTTYPE=text/html:Are you an aspiring entrepreneur? Learn the basics elements of starting a successful business. Thisworkshop gives the entrepreneur a realistic view of the requirements to start a business and the resources available to support a new venture. Topics include: business plan preparation\, legal structures\, government regulations\, financing sources\, loan programs and lender eligibility criteria. Join Us! Please contact us at 630-906-4143 or sbdc@waubonsee.edu to register. \n
LOCATION:Waubonsee Community College - Sugar Grove Campus
UID:e.1902.197
SEQUENCE:3
DTSTAMP:20260423T133727Z
URL:https://business.bataviachamber.org/events/details/sbdc-starting-your-business-in-illinois-workshop-05-10-2011-197
END:VEVENT

END:VCALENDAR
