BEGIN:VCALENDAR
VERSION:2.0
PRODID:-//ChamberMaster//Event Calendar 2.0//EN
METHOD:PUBLISH
X-PUBLISHED-TTL:P3D
REFRESH-INTERVAL:P3D
CALSCALE:GREGORIAN
BEGIN:VEVENT
DTSTART:20110413T050000Z
DTEND:20110413T050000Z
X-MICROSOFT-CDO-ALLDAYEVENT:FALSE
SUMMARY:(SBDC) Starting Your Business in Illinois Workshop
DESCRIPTION:Are you an aspiring entrepreneur? Learn the basics elements of starting a successful business. Thisworkshop gives the entrepreneur a realistic view of the requirements to start a business and the resources available to support a new venture. Topics include: business plan preparation\, legal structures\, government regulations\, financing sources\, loan programs and lender eligibility criteria. Join Us! Registration Regquired\, Fee: $30.00.
X-ALT-DESC;FMTTYPE=text/html:Are you an aspiring entrepreneur? Learn the basics elements of starting a successful business. Thisworkshop gives the entrepreneur a realistic view of the requirements to start a business and the resources available to support a new venture. Topics include: business plan preparation\, legal structures\, government regulations\, financing sources\, loan programs and lender eligibility criteria. Join Us! Registration Regquired\, Fee: $30.00.
LOCATION:Waubonsee Community College - Aurora Campus
UID:e.1902.155
SEQUENCE:3
DTSTAMP:20260419T193534Z
URL:https://business.bataviachamber.org/events/details/sbdc-starting-your-business-in-illinois-workshop-04-13-2011-155
END:VEVENT

END:VCALENDAR
