BEGIN:VCALENDAR
VERSION:2.0
PRODID:-//ChamberMaster//Event Calendar 2.0//EN
METHOD:PUBLISH
X-PUBLISHED-TTL:P3D
REFRESH-INTERVAL:P3D
CALSCALE:GREGORIAN
BEGIN:VEVENT
DTSTART:20111116T060000Z
DTEND:20111116T060000Z
X-MICROSOFT-CDO-ALLDAYEVENT:FALSE
SUMMARY:(SBDC) Starting Your Business in IL Workshop
DESCRIPTION:Are you an aspiring entrepreneur? Learn the basics elements of starting a successful business. Thisworkshop gives the entrepreneur a realistic view of the requirements to start a business and the resources available to support a new venture. Topics include: business plan preparation\, legal structures\, government regulations\, financing sources\, loan programs and lender eligibility criteria. Join Us! Class Fee: $30\n\nPlease call 630-906-4143 for more information or to register.
X-ALT-DESC;FMTTYPE=text/html:Are you an aspiring entrepreneur? Learn the basics elements of starting a successful business. Thisworkshop gives the entrepreneur a realistic view of the requirements to start a business and the resources available to support a new venture. Topics include: business plan preparation\, legal structures\, government regulations\, financing sources\, loan programs and lender eligibility criteria. Join Us! Class Fee: $30\n\nPlease call 630-906-4143 for more information or to register.\n
LOCATION:Waubonsee Community College
UID:e.1902.443
SEQUENCE:3
DTSTAMP:20260423T020713Z
URL:https://business.bataviachamber.org/events/details/sbdc-starting-your-business-in-il-workshop-11-16-2011-443
END:VEVENT

END:VCALENDAR
