BEGIN:VCALENDAR
VERSION:2.0
PRODID:-//ChamberMaster//Event Calendar 2.0//EN
METHOD:PUBLISH
X-PUBLISHED-TTL:P3D
REFRESH-INTERVAL:P3D
CALSCALE:GREGORIAN
BEGIN:VEVENT
DTSTART:20110609T050000Z
DTEND:20110609T050000Z
X-MICROSOFT-CDO-ALLDAYEVENT:FALSE
SUMMARY:(SBDC) Starting Your Business in IL Workshop
DESCRIPTION:Are you an aspiring entrepreneur? Learn the basics elements of starting a successful business. Thisworkshop gives the entrepreneur a realistic view of the requirements to start a business and the resources available to support a new venture. Topics include: business plan preparation\, legal structures\, government regulations\, financing sources\, loan programs and lender eligibility criteria. Join Us!
X-ALT-DESC;FMTTYPE=text/html:Are you an aspiring entrepreneur? Learn the basics elements of starting a successful business. Thisworkshop gives the entrepreneur a realistic view of the requirements to start a business and the resources available to support a new venture. Topics include: business plan preparation\, legal structures\, government regulations\, financing sources\, loan programs and lender eligibility criteria. Join Us!
LOCATION:Waubonsee Community College - NEW AURORA CAMPUS
UID:e.1902.215
SEQUENCE:3
DTSTAMP:20260419T151450Z
URL:https://business.bataviachamber.org/events/details/sbdc-starting-your-business-in-il-workshop-06-09-2011-215
END:VEVENT

END:VCALENDAR
