BEGIN:VCALENDAR
VERSION:2.0
PRODID:-//ChamberMaster//Event Calendar 2.0//EN
METHOD:PUBLISH
X-PUBLISHED-TTL:P3D
REFRESH-INTERVAL:P3D
CALSCALE:GREGORIAN
BEGIN:VEVENT
DTSTART:20110721T050000Z
DTEND:20110721T050000Z
X-MICROSOFT-CDO-ALLDAYEVENT:FALSE
SUMMARY:(SBDC) Social Media Marketing for Business Workshop
DESCRIPTION:Marketing a small to mid-sized business has changed over the years.  Technology is everywhere.  To be successful communicating your message\, you need a mix of new marketing tools.  In this class you will discover how businesses are using new technology tools like blogs\, podcasts\, YouTube\, FaceBook and Linked-In.  We will also explore how to mix traditional media with new media to reach new clients. Join Us!
X-ALT-DESC;FMTTYPE=text/html:Marketing a small to mid-sized business has changed over the years.  Technology is everywhere.  To be successful communicating your message\, you need a mix of new marketing tools.  In this class you will discover how businesses are using new technology tools like blogs\, podcasts\, YouTube\, FaceBook and Linked-In.  We will also explore how to mix traditional media with new media to reach new clients. Join Us!
LOCATION:Waubonsee Community College - NEW AURORA CAMPUS
UID:e.1902.218
SEQUENCE:3
DTSTAMP:20260419T132709Z
URL:https://business.bataviachamber.org/events/details/sbdc-social-media-marketing-for-business-workshop-07-21-2011-218
END:VEVENT

END:VCALENDAR
