BEGIN:VCALENDAR
VERSION:2.0
PRODID:-//ChamberMaster//Event Calendar 2.0//EN
METHOD:PUBLISH
X-PUBLISHED-TTL:P3D
REFRESH-INTERVAL:P3D
CALSCALE:GREGORIAN
BEGIN:VEVENT
DTSTART:20101028T050000Z
DTEND:20101028T050000Z
X-MICROSOFT-CDO-ALLDAYEVENT:FALSE
SUMMARY:(SBDC) Small Business Tax Basics Workshop
DESCRIPTION:This workshop will give business owners a comprehensive overview of business record keeping and taxes. Topics include: how to keep good business records and avoid IRS problems\, employment tax information\, advantages and disadvantages of different business structures\, business income tax\, tax forms and filing dates\, business deductions\, and depreciation basics.\n\nIf interested\, please contact us at 630-906-4143 or hparker@waubonsee.edu to register. You can also visit Waubonsee's website for registration information. (Registration is required\, Class fee: $30.00)
X-ALT-DESC;FMTTYPE=text/html:This workshop will give business owners a comprehensive overview of business record keeping and taxes. Topics include: how to keep good business records and avoid IRS problems\, employment tax information\, advantages and disadvantages of different business structures\, business income tax\, tax forms and filing dates\, business deductions\, and depreciation basics.\n\nIf interested\, please contact us at 630-906-4143 or hparker@waubonsee.edu to register. You can also visit Waubonsee's website for registration information. (Registration is required\, Class fee: $30.00)
LOCATION:Waubonsee Community College - Aurora Campus
UID:e.1902.62
SEQUENCE:3
DTSTAMP:20260420T054219Z
URL:https://business.bataviachamber.org/events/details/sbdc-small-business-tax-basics-workshop-10-28-2010-62
END:VEVENT

END:VCALENDAR
