BEGIN:VCALENDAR
VERSION:2.0
PRODID:-//ChamberMaster//Event Calendar 2.0//EN
METHOD:PUBLISH
X-PUBLISHED-TTL:P3D
REFRESH-INTERVAL:P3D
CALSCALE:GREGORIAN
BEGIN:VEVENT
DTSTART:20111026T050000Z
DTEND:20111026T050000Z
X-MICROSOFT-CDO-ALLDAYEVENT:FALSE
SUMMARY:(SBDC) Small Business Tax Basics Workshop
DESCRIPTION:This workshop will give business owners a comprehensive overview of business record keeping and taxes. Topics include: how to keep good business records and avoid IRS problems\, employment tax information\, advantages and disadvantages of different business structures\, business income tax\, tax forms and filing dates\, business deductions\, and depreciation basics. For more information or to register\,call the IL Small Business Development Center at Waubonsee at (630) 906-4143. Fee: $30\, Advanced registration required.
X-ALT-DESC;FMTTYPE=text/html:This workshop will give business owners a comprehensive overview of business record keeping and taxes. Topics include: how to keep good business records and avoid IRS problems\, employment tax information\, advantages and disadvantages of different business structures\, business income tax\, tax forms and filing dates\, business deductions\, and depreciation basics. For more information or to register\,call the IL Small Business Development Center at Waubonsee at (630) 906-4143. Fee: $30\, Advanced registration required.
LOCATION:Waubonsee Community College - Aurora Campus
UID:e.1902.313
SEQUENCE:3
DTSTAMP:20260423T034352Z
URL:https://business.bataviachamber.org/events/details/sbdc-small-business-tax-basics-workshop-10-26-2011-313
END:VEVENT

END:VCALENDAR
