BEGIN:VCALENDAR
VERSION:2.0
PRODID:-//ChamberMaster//Event Calendar 2.0//EN
METHOD:PUBLISH
X-PUBLISHED-TTL:P3D
REFRESH-INTERVAL:P3D
CALSCALE:GREGORIAN
BEGIN:VEVENT
DTSTART:20110426T050000Z
DTEND:20110426T050000Z
X-MICROSOFT-CDO-ALLDAYEVENT:FALSE
SUMMARY:(SBDC) Safeguarding Your Small Business from FRAUD
DESCRIPTION:Did you know that small business ranks highest in fraud frequency\, compared tp corporations\, government and non-profits?\n\nJoin us for a FREE presentation on the types of internal and external fraudattempts that threaten businesses daily. Learn how to minimize the risks of fraud and safegaurd yoursmall business. The risks to business bank accounts and the solutions available will specifically addresses in this presentation\n\nHosted by: IL Small Business Development Center and Citibank\n\nThis event if free and continental breakfast will be served. Registration is required\, call (630)906-4143.
X-ALT-DESC;FMTTYPE=text/html:Did you know that small business ranks highest in fraud frequency\, compared tp corporations\, government and non-profits?\n\nJoin us for a FREE presentation on the types of internal and external fraudattempts that threaten businesses daily. Learn how to minimize the risks of fraud and safegaurd yoursmall business. The risks to business bank accounts and the solutions available will specifically addresses in this presentation\n\nHosted by: IL Small Business Development Center and Citibank\n\nThis event if free and continental breakfast will be served. Registration is required\, call (630)906-4143. \n
LOCATION:Waubonsee Community College - Aurora Campus
UID:e.1902.204
SEQUENCE:3
DTSTAMP:20260419T181257Z
URL:https://business.bataviachamber.org/events/details/sbdc-safeguarding-your-small-business-from-fraud-04-26-2011-204
END:VEVENT

END:VCALENDAR
