BEGIN:VCALENDAR
VERSION:2.0
PRODID:-//ChamberMaster//Event Calendar 2.0//EN
METHOD:PUBLISH
X-PUBLISHED-TTL:P3D
REFRESH-INTERVAL:P3D
CALSCALE:GREGORIAN
BEGIN:VEVENT
DTSTART:20101007T050000Z
DTEND:20101007T050000Z
X-MICROSOFT-CDO-ALLDAYEVENT:FALSE
SUMMARY:(SBDC) Patent\, Trademark and Copyright Law Workshop
DESCRIPTION:Learn how to protect your products\, logos and ideas. A local patent attorney will cover the basics of patents\, trademarks\, copyrights and trade secrets. Find out what steps you need to take\, the costsinvolved and what you can and cannot protect. Join Us!\n\nIf interested\, please contact us at 630-906-4143 or hparker@waubonsee.edu to register. You can also visit Waubonsee's website for registration information
X-ALT-DESC;FMTTYPE=text/html:Learn how to protect your products\, logos and ideas. A local patent attorney will cover the basics of patents\, trademarks\, copyrights and trade secrets. Find out what steps you need to take\, the costsinvolved and what you can and cannot protect. Join Us!\n\nIf interested\, please contact us at 630-906-4143 or hparker@waubonsee.edu to register. You can also visit Waubonsee's website for registration information
LOCATION:Waubonsee Community College - Aurora Campus
UID:e.1902.59
SEQUENCE:3
DTSTAMP:20260420T042607Z
URL:https://business.bataviachamber.org/events/details/sbdc-patent-trademark-and-copyright-law-workshop-10-07-2010-59
END:VEVENT

END:VCALENDAR
