BEGIN:VCALENDAR
VERSION:2.0
PRODID:-//ChamberMaster//Event Calendar 2.0//EN
METHOD:PUBLISH
X-PUBLISHED-TTL:P3D
REFRESH-INTERVAL:P3D
CALSCALE:GREGORIAN
BEGIN:VEVENT
DTSTART:20110414T050000Z
DTEND:20110414T050000Z
X-MICROSOFT-CDO-ALLDAYEVENT:FALSE
SUMMARY:(SBDC) Patent\, Trademark and Copyright Law Workshop
DESCRIPTION:Learn how to protect your products\, logos and ideas. A local patent attorney will cover the basics of patents\, trademarks\, copyrights and trade secrets. Find out what steps you need to take\, the costsinvolved and what you can and cannot protect. Join Us!Please contact us at 630-906-4143 or sbdc@waubonsee.edu to register.
X-ALT-DESC;FMTTYPE=text/html:Learn how to protect your products\, logos and ideas. A local patent attorney will cover the basics of patents\, trademarks\, copyrights and trade secrets. Find out what steps you need to take\, the costsinvolved and what you can and cannot protect. Join Us!Please contact us at 630-906-4143 or sbdc@waubonsee.edu to register. \n\n
LOCATION:Waubonsee Community College - Aurora Campus
UID:e.1902.202
SEQUENCE:3
DTSTAMP:20260423T135117Z
URL:https://business.bataviachamber.org/events/details/sbdc-patent-trademark-and-copyright-law-workshop-04-14-2011-202
END:VEVENT

END:VCALENDAR
