BEGIN:VCALENDAR
VERSION:2.0
PRODID:-//ChamberMaster//Event Calendar 2.0//EN
METHOD:PUBLISH
X-PUBLISHED-TTL:P3D
REFRESH-INTERVAL:P3D
CALSCALE:GREGORIAN
BEGIN:VEVENT
DTSTART:20110209T060000Z
DTEND:20110209T060000Z
X-MICROSOFT-CDO-ALLDAYEVENT:FALSE
SUMMARY:(SBDC) Marketing in the 21st Century Workshop
DESCRIPTION:Marketing a small to mid-sized business has changed over the years.  Technology is everywhere.  To be successful communicating your message\, you need a mix of new marketing tools.  In this class you will discover how businesses are using new technology tools like blogs\, podcasts\, YouTube\, FaceBook and Linked-In.  We will also explore how to mix traditional media with new media to reach new clients. Join Us!\n\nPlease contact us at 630-906-4143 or hparker@waubonsee.edu to register. You can also visit Waubonsee's website for registration information. (Registration is required.)
X-ALT-DESC;FMTTYPE=text/html:Marketing a small to mid-sized business has changed over the years.  Technology is everywhere.  To be successful communicating your message\, you need a mix of new marketing tools.  In this class you will discover how businesses are using new technology tools like blogs\, podcasts\, YouTube\, FaceBook and Linked-In.  We will also explore how to mix traditional media with new media to reach new clients. Join Us!\n\nPlease contact us at 630-906-4143 or hparker@waubonsee.edu to register. You can also visit Waubonsee's website for registration information. (Registration is required.)
LOCATION:Waubonsee Community College - Aurora Campus
UID:e.1902.93
SEQUENCE:3
DTSTAMP:20260419T212259Z
URL:https://business.bataviachamber.org/events/details/sbdc-marketing-in-the-21st-century-workshop-02-09-2011-93
END:VEVENT

END:VCALENDAR
