BEGIN:VCALENDAR
VERSION:2.0
PRODID:-//ChamberMaster//Event Calendar 2.0//EN
METHOD:PUBLISH
X-PUBLISHED-TTL:P3D
REFRESH-INTERVAL:P3D
CALSCALE:GREGORIAN
BEGIN:VEVENT
DTSTART:20100928T050000Z
DTEND:20100928T050000Z
X-MICROSOFT-CDO-ALLDAYEVENT:FALSE
SUMMARY:(SBDC) Marketing in the 21st Century: Using New Technologies
DESCRIPTION:Are you an aspiring entrepreneur? Learn the basics elements of starting a successful business. Thisworkshop gives the entrepreneur a realistic view of the requirements to start a business and the resources available to support a new venture. Topics include: business plan preparation\, legal structures\, government regulations\, financing sources\, loan programs and lender eligibility criteria. Join Us!\n\nIf interested\, please contact us at 630-906-4143 or hparker@waubonsee.edu to register. You canalso visit Waubonsee's website for registration information. (Registration is required\, Class fee:$30.00.)
X-ALT-DESC;FMTTYPE=text/html:Are you an aspiring entrepreneur? Learn the basics elements of starting a successful business. Thisworkshop gives the entrepreneur a realistic view of the requirements to start a business and the resources available to support a new venture. Topics include: business plan preparation\, legal structures\, government regulations\, financing sources\, loan programs and lender eligibility criteria. Join Us!\n\nIf interested\, please contact us at 630-906-4143 or hparker@waubonsee.edu to register. You canalso visit Waubonsee's website for registration information. (Registration is required\, Class fee:$30.00.)
LOCATION:Waubonsee Community College - Aurora Campus
UID:e.1902.61
SEQUENCE:3
DTSTAMP:20260420T060817Z
URL:https://business.bataviachamber.org/events/details/sbdc-marketing-in-the-21st-century-using-new-technologies-09-28-2010-61
END:VEVENT

END:VCALENDAR
