BEGIN:VCALENDAR
VERSION:2.0
PRODID:-//ChamberMaster//Event Calendar 2.0//EN
METHOD:PUBLISH
X-PUBLISHED-TTL:P3D
REFRESH-INTERVAL:P3D
CALSCALE:GREGORIAN
BEGIN:VEVENT
DTSTART:20110421T050000Z
DTEND:20110421T050000Z
X-MICROSOFT-CDO-ALLDAYEVENT:FALSE
SUMMARY:(SBDC) Marketing in the 21st Century
DESCRIPTION:Marketing a small to mid-sized business has changed over the years.  Technology is everywhere.  To be successful communicating your message\, you need a mix of new marketing tools.  In this class you will discover how businesses are using new technology tools like blogs\, podcasts\, YouTube\, FaceBook and Linked-In.  We will also explore how to mix traditional media with new media to reach new clients. Join Us! Registration Required\, Fee: $30.00.
X-ALT-DESC;FMTTYPE=text/html:Marketing a small to mid-sized business has changed over the years.  Technology is everywhere.  To be successful communicating your message\, you need a mix of new marketing tools.  In this class you will discover how businesses are using new technology tools like blogs\, podcasts\, YouTube\, FaceBook and Linked-In.  We will also explore how to mix traditional media with new media to reach new clients. Join Us! Registration Required\, Fee: $30.00.
LOCATION:Waubonsee Community College - Sugar Grove Campus
UID:e.1902.153
SEQUENCE:3
DTSTAMP:20260419T181222Z
URL:https://business.bataviachamber.org/events/details/sbdc-marketing-in-the-21st-century-04-21-2011-153
END:VEVENT

END:VCALENDAR
