BEGIN:VCALENDAR
VERSION:2.0
PRODID:-//ChamberMaster//Event Calendar 2.0//EN
METHOD:PUBLISH
X-PUBLISHED-TTL:P3D
REFRESH-INTERVAL:P3D
CALSCALE:GREGORIAN
BEGIN:VEVENT
DTSTART:20110614T050000Z
DTEND:20110614T050000Z
X-MICROSOFT-CDO-ALLDAYEVENT:FALSE
SUMMARY:(SBDC) Marketing for Small Business Workshop
DESCRIPTION:Marketing is critical to small business survival. Learn how to approach marketing\, the uses of different media\, and how to combine elements into an effective campaign. You will take away practical ideas you can implement now to grow your small business. Join Us! Registration required. Workshop fee:$30.00
X-ALT-DESC;FMTTYPE=text/html:Marketing is critical to small business survival. Learn how to approach marketing\, the uses of different media\, and how to combine elements into an effective campaign. You will take away practical ideas you can implement now to grow your small business. Join Us! Registration required. Workshop fee:$30.00
LOCATION:Waubonsee Community College - NEW Aurora Campus
UID:e.1902.283
SEQUENCE:3
DTSTAMP:20260423T104534Z
URL:https://business.bataviachamber.org/events/details/sbdc-marketing-for-small-business-workshop-06-14-2011-283
END:VEVENT

END:VCALENDAR
