BEGIN:VCALENDAR
VERSION:2.0
PRODID:-//ChamberMaster//Event Calendar 2.0//EN
METHOD:PUBLISH
X-PUBLISHED-TTL:P3D
REFRESH-INTERVAL:P3D
CALSCALE:GREGORIAN
BEGIN:VEVENT
DTSTART:20101019T050000Z
DTEND:20101019T050000Z
X-MICROSOFT-CDO-ALLDAYEVENT:FALSE
SUMMARY:(SBDC) Marketing for Small Business
DESCRIPTION:Marketing is critical to small business survival. Learn how to approach marketing\, the uses of different media\, and how to combine elements into an effective campaign. You will take away practical ideas you can implement now to grow your small business. Join Us!\n\nIf interested\, please contact us at 630-906-4143 or hparker@waubonsee.edu to register. You can also visit Waubonsee's website for registration information. (Registration is required.)
X-ALT-DESC;FMTTYPE=text/html:Marketing is critical to small business survival. Learn how to approach marketing\, the uses of different media\, and how to combine elements into an effective campaign. You will take away practical ideas you can implement now to grow your small business. Join Us!\n\nIf interested\, please contact us at 630-906-4143 or hparker@waubonsee.edu to register. You can also visit Waubonsee's website for registration information. (Registration is required.)
LOCATION:Waubonsee Community College - Aurora Campus
UID:e.1902.64
SEQUENCE:3
DTSTAMP:20260420T054419Z
URL:https://business.bataviachamber.org/events/details/sbdc-marketing-for-small-business-10-19-2010-64
END:VEVENT

END:VCALENDAR
