BEGIN:VCALENDAR
VERSION:2.0
PRODID:-//ChamberMaster//Event Calendar 2.0//EN
METHOD:PUBLISH
X-PUBLISHED-TTL:P3D
REFRESH-INTERVAL:P3D
CALSCALE:GREGORIAN
BEGIN:VEVENT
DTSTART:20110623T050000Z
DTEND:20110623T050000Z
X-MICROSOFT-CDO-ALLDAYEVENT:FALSE
SUMMARY:(SBDC) Google for Business
DESCRIPTION:This workshop will cover online marketing best practices using Google tools\, including how to: reachthe right audience using Google AdWords and boost your ad performance by choosing the right keywords and writing compelling ads\; claim your business on Google Maps and create a Google Places page\; use Google Analytics to track online traffic and optimize your website.
X-ALT-DESC;FMTTYPE=text/html:This workshop will cover online marketing best practices using Google tools\, including how to: reachthe right audience using Google AdWords and boost your ad performance by choosing the right keywords and writing compelling ads\; claim your business on Google Maps and create a Google Places page\; use Google Analytics to track online traffic and optimize your website.
LOCATION:Waubonsee Community College - NEW AURORA CAMPUS
UID:e.1902.217
SEQUENCE:3
DTSTAMP:20260419T145218Z
URL:https://business.bataviachamber.org/events/details/sbdc-google-for-business-06-23-2011-217
END:VEVENT

END:VCALENDAR
