BEGIN:VCALENDAR
VERSION:2.0
PRODID:-//ChamberMaster//Event Calendar 2.0//EN
METHOD:PUBLISH
X-PUBLISHED-TTL:P3D
REFRESH-INTERVAL:P3D
CALSCALE:GREGORIAN
BEGIN:VEVENT
DTSTART:20101021T050000Z
DTEND:20101021T050000Z
X-MICROSOFT-CDO-ALLDAYEVENT:FALSE
SUMMARY:(SBDC) Google 101 for Business
DESCRIPTION:Google\, in partnership with Illinois Small Business Development Centers\, invite you to an interactive workshop for the local business community. We'll show you how Google tools can help you reach morecustomers\, understand what customers are searching for\, and operate more efficiently. \n\nThis 3-hour workshop will cover online marketing best practices\, including how to: Reach the right audience using Google AdWords & boost your ad performance by choosing the right keywords and writing compelling ads\, Claim your business on Google Maps & create a Google Places Page\, Use Google Analytics to track online traffic & optimize your website.\n\nRegistration is required. To reserve a seat for this event\, please visit www.waubonseetickets.com. We look forward to seeing you there!
X-ALT-DESC;FMTTYPE=text/html:Google\, in partnership with Illinois Small Business Development Centers\, invite you to an interactive workshop for the local business community. We'll show you how Google tools can help you reach morecustomers\, understand what customers are searching for\, and operate more efficiently. \n\nThis 3-hour workshop will cover online marketing best practices\, including how to: Reach the right audience using Google AdWords & boost your ad performance by choosing the right keywords and writing compelling ads\, Claim your business on Google Maps & create a Google Places Page\, Use Google Analytics to track online traffic & optimize your website.\n\nRegistration is required. To reserve a seat for this event\, please visit www.waubonseetickets.com. We look forward to seeing you there!
LOCATION:Waubonsee Community College
UID:e.1902.68
SEQUENCE:3
DTSTAMP:20260420T054036Z
URL:https://business.bataviachamber.org/events/details/sbdc-google-101-for-business-10-21-2010-68
END:VEVENT

END:VCALENDAR
