BEGIN:VCALENDAR
VERSION:2.0
PRODID:-//ChamberMaster//Event Calendar 2.0//EN
METHOD:PUBLISH
X-PUBLISHED-TTL:P3D
REFRESH-INTERVAL:P3D
CALSCALE:GREGORIAN
BEGIN:VEVENT
DTSTART:20110616T050000Z
DTEND:20110616T050000Z
X-MICROSOFT-CDO-ALLDAYEVENT:FALSE
SUMMARY:(SBDC) Entrepreneurship Connection: The Breakthrough!
DESCRIPTION:Don't miss this opportunity to learn about two major breakthroughs for entrepreneurship coming rightout of the Fox Valley. First\, you'll learn about Entrepreneurial DNA - a breakthrough discovery that segments entrepreneurs into Builder\, Opportunist\, Specialist and Innovator DNAs. If you are in business for yourself\, you'll discover your unique DNA and walk away with actionable strategy on how best to run your company\, lead your team and connect with other entrepreneurs. If you serve entrepreneurs\, you'll learn how to profile entrepreneurs based on DNA and better target your product/service offering to your most likely customer. Next\, you'll learn about the major milestones that have been reached toward the impending launch of the Fox Valley Entrepreneurship Center - a collaborative resource portal and startup/small business accelerator for ventures in the Fox Valley area.
X-ALT-DESC;FMTTYPE=text/html:Don't miss this opportunity to learn about two major breakthroughs for entrepreneurship coming rightout of the Fox Valley. First\, you'll learn about Entrepreneurial DNA - a breakthrough discovery that segments entrepreneurs into Builder\, Opportunist\, Specialist and Innovator DNAs. If you are in business for yourself\, you'll discover your unique DNA and walk away with actionable strategy on how best to run your company\, lead your team and connect with other entrepreneurs. If you serve entrepreneurs\, you'll learn how to profile entrepreneurs based on DNA and better target your product/service offering to your most likely customer. Next\, you'll learn about the major milestones that have been reached toward the impending launch of the Fox Valley Entrepreneurship Center - a collaborative resource portal and startup/small business accelerator for ventures in the Fox Valley area.
LOCATION:Waubonsee Community College - NEW AURORA CAMPUS
UID:e.1902.244
SEQUENCE:3
DTSTAMP:20260419T162325Z
URL:https://business.bataviachamber.org/events/details/sbdc-entrepreneurship-connection-the-breakthrough-06-16-2011-244
END:VEVENT

END:VCALENDAR
