BEGIN:VCALENDAR
VERSION:2.0
PRODID:-//ChamberMaster//Event Calendar 2.0//EN
METHOD:PUBLISH
X-PUBLISHED-TTL:P3D
REFRESH-INTERVAL:P3D
CALSCALE:GREGORIAN
BEGIN:VEVENT
DTSTART:20100911T050000Z
DTEND:20100911T050000Z
X-MICROSOFT-CDO-ALLDAYEVENT:FALSE
SUMMARY:Sauerkraut Shuffle 5K Run/Walk
DESCRIPTION:5K Run/Walk as kick off to the fall season and Immanuel's Oktoberfest\, which will be held two weekslater\, on September 25. Participants are asked to donate used shoes\, which will be given to Stuff for the Poor\, an organization that works with AIDS orphans in Africa.
X-ALT-DESC;FMTTYPE=text/html:5K Run/Walk as kick off to the fall season and Immanuel's Oktoberfest\, which will be held two weekslater\, on September 25. Participants are asked to donate used shoes\, which will be given to Stuff for the Poor\, an organization that works with AIDS orphans in Africa.
LOCATION:Batavia Riverwalk
UID:e.1902.13
SEQUENCE:3
DTSTAMP:20260420T060833Z
URL:https://business.bataviachamber.org/events/details/sauerkraut-shuffle-5k-run-walk-09-11-2010-13
END:VEVENT

END:VCALENDAR
