BEGIN:VCALENDAR
VERSION:2.0
PRODID:-//ChamberMaster//Event Calendar 2.0//EN
METHOD:PUBLISH
X-PUBLISHED-TTL:P3D
REFRESH-INTERVAL:P3D
CALSCALE:GREGORIAN
BEGIN:VEVENT
DTSTART:20200815T140000Z
DTEND:20200815T200000Z
X-MICROSOFT-CDO-ALLDAYEVENT:FALSE
SUMMARY:Salvation Army Tri-City Corps Food Drive
DESCRIPTION:Because of the tremendous demand this year\, the food pantry at The Salvation Army Tri-City Corps is in desperate need to refill its supplies!\n\n\n\nDonors can just drive up to our location at 1710 S. 7th Ave.\, St. Charles\, from 9:00-3:00 on August 15 and volunteers will unload.\n\nFor questions\, call Lt. Dena at 630-377-2769. Thank you for your donations! \n\nThe following items are always in need for the food pantry: diapers /Pull-ups (especially sizes 5 and 6)\, Baby wipes\, Shampoo/conditioner\, Toothpaste\, Deodorant\, Soap\, Pads and tampons (they go through pads much faster)\, Adult diapers\, Laundry soap\, Dish soap\, Paper towels\, Kleenex\, Canned ravioli and SpaghettiOs\, Canned fruit\, Canned tuna or chicken\, Canned beans or vegetables\, Condiments (mustard\, mayo\, ketchup\, etc.)\, Jelly\, Peanut butter\, Pancake mix\, Syrup\, Cereal\, Baking staples (flour\, sugar\, etc.)\, Coffee/tea\, Pasta\, Pasta sauce\, Macaroni and cheese \, Stuffing/Instant mash potatoes\, as well as brown paper bags.
X-ALT-DESC;FMTTYPE=text/html:<p><span style="font-family:arial\,sans-serif\;"><span style="font-size:10.0pt\;">Because of the tremendous demand this year\, the food pantry at The Salvation Army Tri-City Corps is in desperate need to refill its supplies!<br />\n<br />\nDonors can just drive up to our location at 1710 S. 7th Ave.\, St. Charles\, from 9:00-3:00 on August 15 and volunteers will unload.</span></span></p>\n\n<p><span style="font-family:arial\,sans-serif\;"><span style="font-size:10.0pt\;">For questions\, call Lt. Dena at 630-377-2769. Thank you for your donations! </span></span></p>\n\n<p><span style="font-family:arial\,sans-serif\;"><span style="font-size:10.0pt\;">The following items are always in need for the food pantry: diapers /Pull-ups (especially sizes 5 and 6)\, Baby wipes\, Shampoo/conditioner\, Toothpaste\, Deodorant\, Soap\, Pads and tampons (they go through pads much faster)\, Adult diapers\, Laundry soap\, Dish soap\, Paper towels\, Kleenex\, Canned ravioli and SpaghettiOs\, Canned fruit\, Canned tuna or chicken\, Canned beans or vegetables\, Condiments (mustard\, mayo\, ketchup\, etc.)\, Jelly\, Peanut butter\, Pancake mix\, Syrup\, Cereal\, Baking staples (flour\, sugar\, etc.)\, Coffee/tea\, Pasta\, Pasta sauce\, Macaroni and cheese \, Stuffing/Instant mash potatoes\, as well as brown paper bags.&nbsp\;</span></span></p>\n
LOCATION:Salvation Army Tri-City Corps 1710 S. 7th Avenue St. Charles\, IL
UID:e.1902.12348
SEQUENCE:3
DTSTAMP:20260422T150243Z
URL:https://business.bataviachamber.org/events/details/salvation-army-tri-city-corps-food-drive-12348
END:VEVENT

END:VCALENDAR
