BEGIN:VCALENDAR
VERSION:2.0
PRODID:-//ChamberMaster//Event Calendar 2.0//EN
METHOD:PUBLISH
X-PUBLISHED-TTL:P3D
REFRESH-INTERVAL:P3D
CALSCALE:GREGORIAN
BEGIN:VEVENT
DTSTART:20080327T130000Z
DTEND:20080327T143000Z
X-MICROSOFT-CDO-ALLDAYEVENT:FALSE
SUMMARY:S&W Building Your Dream Team
DESCRIPTION:
X-ALT-DESC;FMTTYPE=text/html:
LOCATION:Comfort Inn & Suites
UID:e.1902.1795
SEQUENCE:3
DTSTAMP:20260426T023854Z
URL:https://business.bataviachamber.org/events/details/s-w-building-your-dream-team-03-27-2008-1795
END:VEVENT

END:VCALENDAR
