BEGIN:VCALENDAR
VERSION:2.0
PRODID:-//ChamberMaster//Event Calendar 2.0//EN
METHOD:PUBLISH
X-PUBLISHED-TTL:P3D
REFRESH-INTERVAL:P3D
CALSCALE:GREGORIAN
BEGIN:VEVENT
DTSTART:20110707T050000Z
DTEND:20110707T050000Z
X-MICROSOFT-CDO-ALLDAYEVENT:FALSE
SUMMARY:Run with the Bulls! (Or at least drink a Spanish wine!)
DESCRIPTION:Did you make your reservations for a balcony? A higher balcony assures you will see more of the event. A lower balcony offers the “in the thick” of the event arousing all of the senses. The route forthe seven day festival Sanfermines begins in the morning with 14 animals July 7 – July 14 at 8:00 am!  In their honor\, we will have a special Spanish wine menu at the bar and will be available July 7th\, 8th and 9th.
X-ALT-DESC;FMTTYPE=text/html:Did you make your reservations for a balcony? A higher balcony assures you will see more of the event. A lower balcony offers the “in the thick” of the event arousing all of the senses. The route forthe seven day festival Sanfermines begins in the morning with 14 animals July 7 – July 14 at 8:00 am!  In their honor\, we will have a special Spanish wine menu at the bar and will be available July 7th\, 8th and 9th.
LOCATION:Gibby's Wine Den
UID:e.1902.290
SEQUENCE:3
DTSTAMP:20260419T132753Z
URL:https://business.bataviachamber.org/events/details/run-with-the-bulls-or-at-least-drink-a-spanish-wine-07-07-2011-290
END:VEVENT

END:VCALENDAR
