BEGIN:VCALENDAR
VERSION:2.0
PRODID:-//ChamberMaster//Event Calendar 2.0//EN
METHOD:PUBLISH
X-PUBLISHED-TTL:P3D
REFRESH-INTERVAL:P3D
CALSCALE:GREGORIAN
BEGIN:VEVENT
DTSTART;VALUE=DATE:20241123
DTEND;VALUE=DATE:20241124
TRANSP:TRANSPARENT
X-MICROSOFT-CDO-ALLDAYEVENT:TRUE
SUMMARY:Rudolph 5k Run at Mooseheart
DESCRIPTION:Let's kick off the season together!\n\n\n\nRun\, walk or stroll to benefit Mooseheart Child City & School. \n\nAdult Registration: $40 \n\nKids 12 & Under: $20\n\n\n\nPlease join us for a critical fundraiser that supports Mooseheart Child City & School\, which is home to nearly 200 children each year. \n\n\n\nMooseheart Child City and School\, one of the best-kept secrets in the Fox Valley area\, sits just 40 miles west of Chicago and was built by the Moose Fraternity over 100 years ago. It serves children who\, for a variety of reasons\, cannot be provided a suitable home by their family. \n\n\n\nMooseheart continues to provide the highest quality of care and education and this challenge can only be met with YOUR generosity. We need to continue to strengthen an academic program and vocational program that works - and allow students to take strides to learn at the appropriate grade level and graduate with a college scholarship. Yes\, 80% of Mooseheart graduating seniors enroll in two and four-year universities around the country!\n\n\n\nMooseheart Child City and School gives children a second chance at childhood in a safe environment where they enjoy a solid education and loving home environment.Because of your generous support and participation\, we can continue to provide for the children.
X-ALT-DESC;FMTTYPE=text/html:<span style="font-size:16px\;"><span style="color:#006400\;"><strong>Let&#39\;s kick off the season together!</strong></span></span><br />\n<br />\nRun\, walk or stroll to benefit Mooseheart Child City &amp\; School.&nbsp\;<br />\nAdult Registration: $40&nbsp\;<br />\nKids 12 &amp\; Under: $20<br />\n<br />\nPlease join us for a critical fundraiser that supports Mooseheart Child City &amp\; School\, which is home to nearly 200 children each year.&nbsp\;<br />\n<br />\nMooseheart Child City and School\, one of the best-kept secrets in the Fox Valley area\, sits just 40 miles west of Chicago and was built by the Moose Fraternity over 100 years ago. It serves children who\, for a variety of reasons\, cannot be provided a suitable home by their family.&nbsp\;<br />\n<br />\nMooseheart continues to provide the highest quality of care and education and this challenge can only be met with YOUR generosity. We need to continue to strengthen an academic program and vocational program that works - and allow students to take strides to learn at the appropriate grade level and graduate with a college scholarship. Yes\, 80% of Mooseheart graduating seniors enroll in two and four-year universities around the country!<br />\n<br />\nMooseheart Child City and School gives children a second chance at childhood in a safe environment where they enjoy a solid education and loving home environment.Because of your generous support and participation\, we can continue to provide for the children.
LOCATION:Mooseheart 240 W. James J Davis Drive Mooseheart\, IL 60539
UID:e.1902.25748
SEQUENCE:3
DTSTAMP:20260425T233030Z
URL:https://business.bataviachamber.org/events/details/rudolph-5k-run-at-mooseheart-25748
END:VEVENT

END:VCALENDAR
